View In:
ArcGIS JavaScript
ArcGIS.com Map
Google Earth
ArcMap
ArcGIS Explorer
View Footprint In:
ArcGIS.com Map
Service Description:
Map Name: Layers
Legend
All Layers and Tables
Layers:
Description:
Copyright Text:
Spatial Reference:
4490
(4490)
Single Fused Map Cache: true
Tile Info:
- Height: 256
- Width: 256
- DPI: 96
-
Levels of Detail: 12
-
Level ID: 0
[ Start Tile, End Tile ]
- Resolution: 0.005493164062500002
- Scale: 2308574.9457714846
-
Level ID: 1
[ Start Tile, End Tile ]
- Resolution: 0.002746582031250001
- Scale: 1154287.4728857423
-
Level ID: 2
[ Start Tile, End Tile ]
- Resolution: 0.0013732910156250004
- Scale: 577143.7364428712
-
Level ID: 3
[ Start Tile, End Tile ]
- Resolution: 6.866455078125002E-4
- Scale: 288571.8682214356
-
Level ID: 4
[ Start Tile, End Tile ]
- Resolution: 3.433227539062501E-4
- Scale: 144285.9341107178
-
Level ID: 5
[ Start Tile, End Tile ]
- Resolution: 1.7166137695312505E-4
- Scale: 72142.9670553589
-
Level ID: 6
[ Start Tile, End Tile ]
- Resolution: 8.583068847656253E-5
- Scale: 36071.48352767945
-
Level ID: 7
[ Start Tile, End Tile ]
- Resolution: 4.2915344238281264E-5
- Scale: 18035.741763839724
-
Level ID: 8
[ Start Tile, End Tile ]
- Resolution: 2.1457672119140632E-5
- Scale: 9017.870881919862
-
Level ID: 9
[ Start Tile, End Tile ]
- Resolution: 1.0728836059570316E-5
- Scale: 4508.935440959931
-
Level ID: 10
[ Start Tile, End Tile ]
- Resolution: 5.364418029785158E-6
- Scale: 2254.4677204799655
-
Level ID: 11
[ Start Tile, End Tile ]
- Resolution: 2.682209014892579E-6
- Scale: 1127.2338602399827
- Format: PNG
- Compression Quality: 0.0
- Origin: X: -400.0
Y: 399.9999999999998
- Spatial Reference: 4490
(4490)
Initial Extent:
XMin: 116.43471969126006
YMin: 39.29161021501513
XMax: 118.23002302015902
YMax: 40.28741464595512
Spatial Reference: 4490
(4490)
Full Extent:
XMin: 116.70222783300007
YMin: 38.55480421973937
XMax: 118.05924386940524
YMax: 40.25180000300005
Spatial Reference: 4490
(4490)
Units: esriDecimalDegrees
Supported Image Format Types: PNG32,PNG24,PNG,JPG,DIB,TIFF,EMF,PS,PDF,GIF,SVG,SVGZ,BMP
Document Info:
Title:
Author:
Comments:
Subject:
Category:
Keywords:
AntialiasingMode: None
TextAntialiasingMode: Force
Supports Dynamic Layers: false
MaxRecordCount: 1000
MaxImageHeight: 4096
MaxImageWidth: 4096
Supported Query Formats: JSON, AMF
Min Scale: 2308574.9457714846
Max Scale: 2254.4677204799655
Child Resources:
Info
Supported Operations:
Export Map
Identify
Find
Return Updates
Generate KML