{
 "currentVersion": 10.2,
 "serviceDescription": "",
 "mapName": "图层",
 "description": "",
 "copyrightText": "",
 "supportsDynamicLayers": false,
 "layers": [
  {
   "id": 0,
   "name": "道路注记2000",
   "parentLayerId": -1,
   "defaultVisibility": true,
   "subLayerIds": [
    1,
    2
   ],
   "minScale": 0,
   "maxScale": 0
  },
  {
   "id": 1,
   "name": "道路注记20001_Default",
   "parentLayerId": 0,
   "defaultVisibility": true,
   "subLayerIds": null,
   "minScale": 0,
   "maxScale": 0
  },
  {
   "id": 2,
   "name": "道路注记20002_Default",
   "parentLayerId": 0,
   "defaultVisibility": true,
   "subLayerIds": null,
   "minScale": 0,
   "maxScale": 0
  },
  {
   "id": 3,
   "name": "1:2000",
   "parentLayerId": -1,
   "defaultVisibility": true,
   "subLayerIds": [
    4,
    6,
    8,
    11,
    12,
    13,
    14,
    15,
    16
   ],
   "minScale": 0,
   "maxScale": 1001
  },
  {
   "id": 4,
   "name": "建筑物注记20002021",
   "parentLayerId": 3,
   "defaultVisibility": true,
   "subLayerIds": [
    5
   ],
   "minScale": 0,
   "maxScale": 0
  },
  {
   "id": 5,
   "name": "默认",
   "parentLayerId": 4,
   "defaultVisibility": true,
   "subLayerIds": null,
   "minScale": 0,
   "maxScale": 0
  },
  {
   "id": 6,
   "name": "建筑物注记2000",
   "parentLayerId": 3,
   "defaultVisibility": true,
   "subLayerIds": [
    7
   ],
   "minScale": 0,
   "maxScale": 0
  },
  {
   "id": 7,
   "name": "默认",
   "parentLayerId": 6,
   "defaultVisibility": true,
   "subLayerIds": null,
   "minScale": 0,
   "maxScale": 0
  },
  {
   "id": 8,
   "name": "小区注记2000",
   "parentLayerId": 3,
   "defaultVisibility": true,
   "subLayerIds": [
    9,
    10
   ],
   "minScale": 0,
   "maxScale": 0
  },
  {
   "id": 9,
   "name": "小区",
   "parentLayerId": 8,
   "defaultVisibility": true,
   "subLayerIds": null,
   "minScale": 0,
   "maxScale": 0
  },
  {
   "id": 10,
   "name": "中学",
   "parentLayerId": 8,
   "defaultVisibility": true,
   "subLayerIds": null,
   "minScale": 0,
   "maxScale": 0
  },
  {
   "id": 11,
   "name": "新建筑物",
   "parentLayerId": 3,
   "defaultVisibility": true,
   "subLayerIds": null,
   "minScale": 0,
   "maxScale": 0
  },
  {
   "id": 12,
   "name": "地界",
   "parentLayerId": 3,
   "defaultVisibility": false,
   "subLayerIds": null,
   "minScale": 0,
   "maxScale": 0
  },
  {
   "id": 13,
   "name": "居民地设施",
   "parentLayerId": 3,
   "defaultVisibility": true,
   "subLayerIds": null,
   "minScale": 0,
   "maxScale": 0
  },
  {
   "id": 14,
   "name": "地上出入口",
   "parentLayerId": 3,
   "defaultVisibility": true,
   "subLayerIds": null,
   "minScale": 3000,
   "maxScale": 1001
  },
  {
   "id": 15,
   "name": "建筑物",
   "parentLayerId": 3,
   "defaultVisibility": true,
   "subLayerIds": null,
   "minScale": 0,
   "maxScale": 0
  },
  {
   "id": 16,
   "name": "面",
   "parentLayerId": 3,
   "defaultVisibility": true,
   "subLayerIds": null,
   "minScale": 0,
   "maxScale": 0
  },
  {
   "id": 17,
   "name": "1:1000",
   "parentLayerId": -1,
   "defaultVisibility": true,
   "subLayerIds": [
    18,
    20,
    22,
    23,
    24,
    25,
    26,
    27,
    28,
    29
   ],
   "minScale": 1000,
   "maxScale": 0
  },
  {
   "id": 18,
   "name": "建筑物注记10002021",
   "parentLayerId": 17,
   "defaultVisibility": true,
   "subLayerIds": [
    19
   ],
   "minScale": 0,
   "maxScale": 0
  },
  {
   "id": 19,
   "name": "默认",
   "parentLayerId": 18,
   "defaultVisibility": true,
   "subLayerIds": null,
   "minScale": 0,
   "maxScale": 0
  },
  {
   "id": 20,
   "name": "建筑物注记1000_1",
   "parentLayerId": 17,
   "defaultVisibility": true,
   "subLayerIds": [
    21
   ],
   "minScale": 0,
   "maxScale": 0
  },
  {
   "id": 21,
   "name": "默认",
   "parentLayerId": 20,
   "defaultVisibility": true,
   "subLayerIds": null,
   "minScale": 0,
   "maxScale": 0
  },
  {
   "id": 22,
   "name": "新建筑物",
   "parentLayerId": 17,
   "defaultVisibility": true,
   "subLayerIds": null,
   "minScale": 0,
   "maxScale": 0
  },
  {
   "id": 23,
   "name": "地界",
   "parentLayerId": 17,
   "defaultVisibility": true,
   "subLayerIds": null,
   "minScale": 0,
   "maxScale": 0
  },
  {
   "id": 24,
   "name": "居民地设施",
   "parentLayerId": 17,
   "defaultVisibility": true,
   "subLayerIds": null,
   "minScale": 0,
   "maxScale": 0
  },
  {
   "id": 25,
   "name": "树木",
   "parentLayerId": 17,
   "defaultVisibility": true,
   "subLayerIds": null,
   "minScale": 0,
   "maxScale": 0
  },
  {
   "id": 26,
   "name": "地上出入口",
   "parentLayerId": 17,
   "defaultVisibility": true,
   "subLayerIds": null,
   "minScale": 0,
   "maxScale": 0
  },
  {
   "id": 27,
   "name": "地下出入口",
   "parentLayerId": 17,
   "defaultVisibility": true,
   "subLayerIds": null,
   "minScale": 0,
   "maxScale": 0
  },
  {
   "id": 28,
   "name": "建筑物",
   "parentLayerId": 17,
   "defaultVisibility": true,
   "subLayerIds": null,
   "minScale": 0,
   "maxScale": 0
  },
  {
   "id": 29,
   "name": "面",
   "parentLayerId": 17,
   "defaultVisibility": true,
   "subLayerIds": null,
   "minScale": 0,
   "maxScale": 0
  },
  {
   "id": 30,
   "name": "道路",
   "parentLayerId": -1,
   "defaultVisibility": true,
   "subLayerIds": null,
   "minScale": 0,
   "maxScale": 0
  }
 ],
 "tables": [],
 "spatialReference": {
  "wkid": 2345,
  "latestWkid": 2345
 },
 "singleFusedMapCache": true,
 "tileInfo": {
  "rows": 256,
  "cols": 256,
  "dpi": 96,
  "format": "PNG",
  "compressionQuality": 0,
  "origin": {
   "x": -5123200,
   "y": 10002100
  },
  "spatialReference": {
   "wkid": 2345,
   "latestWkid": 2345
  },
  "lods": [
   {
    "level": 0,
    "resolution": 0.5291677250021167,
    "scale": 2000
   },
   {
    "level": 1,
    "resolution": 0.26458386250105836,
    "scale": 1000
   },
   {
    "level": 2,
    "resolution": 0.13229193125052918,
    "scale": 500
   },
   {
    "level": 3,
    "resolution": 0.06614596562526459,
    "scale": 250
   }
  ]
 },
 "initialExtent": {
  "xmin": 140336.94793225365,
  "ymin": 298389.2654878552,
  "xmax": 160118.61251242756,
  "ymax": 305592.67275794654,
  "spatialReference": {
   "wkid": 2345,
   "latestWkid": 2345
  }
 },
 "fullExtent": {
  "xmin": 66120.5513305664,
  "ymin": 260868.53869628906,
  "xmax": 174232.26110839844,
  "ymax": 356717.8950805664,
  "spatialReference": {
   "wkid": 2345,
   "latestWkid": 2345
  }
 },
 "minScale": 2000,
 "maxScale": 250,
 "units": "esriMeters",
 "supportedImageFormatTypes": "PNG32,PNG24,PNG,JPG,DIB,TIFF,EMF,PS,PDF,GIF,SVG,SVGZ,BMP",
 "documentInfo": {
  "Title": "",
  "Author": "",
  "Comments": "",
  "Subject": "",
  "Category": "",
  "AntialiasingMode": "None",
  "TextAntialiasingMode": "Force",
  "Keywords": ""
 },
 "capabilities": "Map,Query,Data",
 "supportedQueryFormats": "JSON, AMF",
 "exportTilesAllowed": false,
 "maxRecordCount": 1000,
 "maxImageHeight": 4096,
 "maxImageWidth": 4096,
 "supportedExtensions": "KmlServer"
}
