{
 "currentVersion": 10.2,
 "serviceDescription": "",
 "mapName": "Layers",
 "description": "",
 "copyrightText": "",
 "supportsDynamicLayers": false,
 "layers": [
  {
   "id": 0,
   "name": "城镇房屋信息CGCS2000",
   "parentLayerId": -1,
   "defaultVisibility": true,
   "subLayerIds": null,
   "minScale": 0,
   "maxScale": 0
  }
 ],
 "tables": [],
 "spatialReference": {
  "wkid": 4326,
  "latestWkid": 4326
 },
 "singleFusedMapCache": true,
 "tileInfo": {
  "rows": 256,
  "cols": 256,
  "dpi": 96,
  "format": "PNG",
  "compressionQuality": 0,
  "origin": {
   "x": -400,
   "y": 399.9999999999998
  },
  "spatialReference": {
   "wkid": 4326,
   "latestWkid": 4326
  },
  "lods": [
   {
    "level": 0,
    "resolution": 1.5228550437313792E-4,
    "scale": 64000
   },
   {
    "level": 1,
    "resolution": 7.614275218656896E-5,
    "scale": 32000
   },
   {
    "level": 2,
    "resolution": 3.807137609328448E-5,
    "scale": 16000
   },
   {
    "level": 3,
    "resolution": 1.903568804664224E-5,
    "scale": 8000
   },
   {
    "level": 4,
    "resolution": 9.51784402332112E-6,
    "scale": 4000
   }
  ]
 },
 "initialExtent": {
  "xmin": 117.16897549473798,
  "ymin": 39.15652471092767,
  "xmax": 117.2521971434169,
  "ymax": 39.19168124728881,
  "spatialReference": {
   "wkid": 4326,
   "latestWkid": 4326
  }
 },
 "fullExtent": {
  "xmin": 117.16313406678648,
  "ymin": 39.13062731504425,
  "xmax": 117.25582306000354,
  "ymax": 39.19166158815767,
  "spatialReference": {
   "wkid": 4326,
   "latestWkid": 4326
  }
 },
 "minScale": 64000,
 "maxScale": 4000,
 "units": "esriDecimalDegrees",
 "supportedImageFormatTypes": "PNG32,PNG24,PNG,JPG,DIB,TIFF,EMF,PS,PDF,GIF,SVG,SVGZ,BMP",
 "documentInfo": {
  "Title": "",
  "Author": "",
  "Comments": "",
  "Subject": "",
  "Category": "",
  "AntialiasingMode": "None",
  "TextAntialiasingMode": "Force",
  "Keywords": ""
 },
 "capabilities": "Map,Query,Data",
 "supportedQueryFormats": "JSON, AMF",
 "exportTilesAllowed": false,
 "maxRecordCount": 1000,
 "maxImageHeight": 4096,
 "maxImageWidth": 4096,
 "supportedExtensions": "KmlServer"
}
